BEGIN:VCALENDAR
VERSION:2.0
PRODID:-//BrugEs Kerk - ECPv6.15.17.1//NONSGML v1.0//EN
CALSCALE:GREGORIAN
METHOD:PUBLISH
X-WR-CALNAME:BrugEs Kerk
X-ORIGINAL-URL:https://www.brugeskerk.nl
X-WR-CALDESC:Evenementen voor BrugEs Kerk
REFRESH-INTERVAL;VALUE=DURATION:PT1H
X-Robots-Tag:noindex
X-PUBLISHED-TTL:PT1H
BEGIN:VTIMEZONE
TZID:Europe/Amsterdam
BEGIN:DAYLIGHT
TZOFFSETFROM:+0100
TZOFFSETTO:+0200
TZNAME:CEST
DTSTART:20250330T010000
END:DAYLIGHT
BEGIN:STANDARD
TZOFFSETFROM:+0200
TZOFFSETTO:+0100
TZNAME:CET
DTSTART:20251026T010000
END:STANDARD
BEGIN:DAYLIGHT
TZOFFSETFROM:+0100
TZOFFSETTO:+0200
TZNAME:CEST
DTSTART:20260329T010000
END:DAYLIGHT
BEGIN:STANDARD
TZOFFSETFROM:+0200
TZOFFSETTO:+0100
TZNAME:CET
DTSTART:20261025T010000
END:STANDARD
BEGIN:DAYLIGHT
TZOFFSETFROM:+0100
TZOFFSETTO:+0200
TZNAME:CEST
DTSTART:20270328T010000
END:DAYLIGHT
BEGIN:STANDARD
TZOFFSETFROM:+0200
TZOFFSETTO:+0100
TZNAME:CET
DTSTART:20271031T010000
END:STANDARD
END:VTIMEZONE
BEGIN:VEVENT
DTSTART;TZID=Europe/Amsterdam:20260421T180000
DTEND;TZID=Europe/Amsterdam:20260421T210000
DTSTAMP:20260421T120212
CREATED:20251213T165414Z
LAST-MODIFIED:20251213T165414Z
UID:7692-1776794400-1776805200@www.brugeskerk.nl
SUMMARY:Oud papier
DESCRIPTION:15:00 uur Buitengebied \n18:00 – 21:00 uur Dwingeloo dorp
URL:https://www.brugeskerk.nl/agenda/oud-papier-4/
CATEGORIES:Evenementen
END:VEVENT
END:VCALENDAR